BEGIN:VCALENDAR
VERSION:2.0
PRODID:-//Fachschaft Maschinenbau der RWTH Aachen - ECPv6.15.20//NONSGML v1.0//EN
CALSCALE:GREGORIAN
METHOD:PUBLISH
X-WR-CALNAME:Fachschaft Maschinenbau der RWTH Aachen
X-ORIGINAL-URL:https://fsmb.rwth-aachen.de
X-WR-CALDESC:Veranstaltungen für Fachschaft Maschinenbau der RWTH Aachen
REFRESH-INTERVAL;VALUE=DURATION:PT1H
X-Robots-Tag:noindex
X-PUBLISHED-TTL:PT1H
BEGIN:VTIMEZONE
TZID:Europe/Berlin
BEGIN:DAYLIGHT
TZOFFSETFROM:+0100
TZOFFSETTO:+0200
TZNAME:CEST
DTSTART:20180325T010000
END:DAYLIGHT
BEGIN:STANDARD
TZOFFSETFROM:+0200
TZOFFSETTO:+0100
TZNAME:CET
DTSTART:20181028T010000
END:STANDARD
BEGIN:DAYLIGHT
TZOFFSETFROM:+0100
TZOFFSETTO:+0200
TZNAME:CEST
DTSTART:20190331T010000
END:DAYLIGHT
BEGIN:STANDARD
TZOFFSETFROM:+0200
TZOFFSETTO:+0100
TZNAME:CET
DTSTART:20191027T010000
END:STANDARD
BEGIN:DAYLIGHT
TZOFFSETFROM:+0100
TZOFFSETTO:+0200
TZNAME:CEST
DTSTART:20200329T010000
END:DAYLIGHT
BEGIN:STANDARD
TZOFFSETFROM:+0200
TZOFFSETTO:+0100
TZNAME:CET
DTSTART:20201025T010000
END:STANDARD
END:VTIMEZONE
BEGIN:VEVENT
DTSTART;TZID=Europe/Berlin:20190523T193000
DTEND;TZID=Europe/Berlin:20190523T213000
DTSTAMP:20260423T230442
CREATED:20190522T175741Z
LAST-MODIFIED:20190522T175741Z
UID:2216-1558639800-1558647000@fsmb.rwth-aachen.de
SUMMARY:18. Fachschaftssitzung
DESCRIPTION:Hey Maschi! \nDu willst wissen\, was gerade so in Deiner Fachschaft passiert und wo Du mitmachen kannst? Dann komm zu unserer Fachschaftssitzung! \nWir freuen uns auf Dich! \nDeine Lieblingsfachschaft
URL:https://fsmb.rwth-aachen.de/event/18-fachschaftssitzung/
LOCATION:Fachschaft Maschinenbau\, Eilfschornsteinstraße 18\, Aachen\, NRW\, 52062\, Deutschland
END:VEVENT
END:VCALENDAR